BEGIN:VCALENDAR
VERSION:2.0
PRODID:-//Silvia Baldini - ECPv6.13.2.1//NONSGML v1.0//EN
CALSCALE:GREGORIAN
METHOD:PUBLISH
X-ORIGINAL-URL:https://www.silviabaldini.com
X-WR-CALDESC:Events for Silvia Baldini
REFRESH-INTERVAL;VALUE=DURATION:PT1H
X-Robots-Tag:noindex
X-PUBLISHED-TTL:PT1H
BEGIN:VTIMEZONE
TZID:America/New_York
BEGIN:DAYLIGHT
TZOFFSETFROM:-0500
TZOFFSETTO:-0400
TZNAME:EDT
DTSTART:20140309T070000
END:DAYLIGHT
BEGIN:STANDARD
TZOFFSETFROM:-0400
TZOFFSETTO:-0500
TZNAME:EST
DTSTART:20141102T060000
END:STANDARD
BEGIN:DAYLIGHT
TZOFFSETFROM:-0500
TZOFFSETTO:-0400
TZNAME:EDT
DTSTART:20150308T070000
END:DAYLIGHT
BEGIN:STANDARD
TZOFFSETFROM:-0400
TZOFFSETTO:-0500
TZNAME:EST
DTSTART:20151101T060000
END:STANDARD
BEGIN:DAYLIGHT
TZOFFSETFROM:-0500
TZOFFSETTO:-0400
TZNAME:EDT
DTSTART:20160313T070000
END:DAYLIGHT
BEGIN:STANDARD
TZOFFSETFROM:-0400
TZOFFSETTO:-0500
TZNAME:EST
DTSTART:20161106T060000
END:STANDARD
END:VTIMEZONE
BEGIN:VEVENT
DTSTART;TZID=America/New_York:20160617T080000
DTEND;TZID=America/New_York:20160819T170000
DTSTAMP:20260423T220109
CREATED:20160109T135843Z
LAST-MODIFIED:20160109T135843Z
UID:2243-1466150400-1471626000@www.silviabaldini.com
SUMMARY:Aspen Food And Wine Classic 2016
DESCRIPTION:
URL:https://www.silviabaldini.com/event/aspen-food-and-wine-classic-2016/
LOCATION:CT
ATTACH;FMTTYPE=image/jpeg:https://www.silviabaldini.com/wp-content/uploads/2016/01/aspen-food-silvia-baldini.jpg
END:VEVENT
BEGIN:VEVENT
DTSTART;TZID=America/New_York:20160419T220000
DTEND;TZID=America/New_York:20160419T230000
DTSTAMP:20260423T220109
CREATED:20160407T124818Z
LAST-MODIFIED:20160407T124818Z
UID:2315-1461103200-1461106800@www.silviabaldini.com
SUMMARY:Chopped Champions
DESCRIPTION:
URL:https://www.silviabaldini.com/event/chopped-champions/
LOCATION:CT
ATTACH;FMTTYPE=image/jpeg:https://www.silviabaldini.com/wp-content/uploads/2016/04/CQ2804_Silvia-Baldini_s4x3.jpg.rend_.snigalleryslide.jpg
END:VEVENT
BEGIN:VEVENT
DTSTART;TZID=America/New_York:20160228T190000
DTEND;TZID=America/New_York:20160228T220000
DTSTAMP:20260423T220109
CREATED:20160119T125117Z
LAST-MODIFIED:20160119T125117Z
UID:2255-1456686000-1456696800@www.silviabaldini.com
SUMMARY:Red Carpet Experience
DESCRIPTION:
URL:https://www.silviabaldini.com/event/red-carpet-experience/
LOCATION:www.SpotlightTheatres.com
END:VEVENT
BEGIN:VEVENT
DTSTART;TZID=America/New_York:20160214T150000
DTEND;TZID=America/New_York:20160214T160000
DTSTAMP:20260423T220109
CREATED:20160109T134903Z
LAST-MODIFIED:20160109T134953Z
UID:2236-1455462000-1455465600@www.silviabaldini.com
SUMMARY:Foods of Love
DESCRIPTION:
URL:https://www.silviabaldini.com/event/foods-of-love-2/
LOCATION:BetterCT
CATEGORIES:Live Tv Appearance
ATTACH;FMTTYPE=image/jpeg:https://www.silviabaldini.com/wp-content/uploads/2016/01/heartchilly.jpg
END:VEVENT
BEGIN:VEVENT
DTSTART;TZID=America/New_York:20160104T090000
DTEND;TZID=America/New_York:20160104T100000
DTSTAMP:20260423T220109
CREATED:20160109T135511Z
LAST-MODIFIED:20160109T135511Z
UID:2242-1451898000-1451901600@www.silviabaldini.com
SUMMARY:CtStyle. 10 lucky foods.
DESCRIPTION:
URL:https://www.silviabaldini.com/event/ctstyle-10-lucky-foods/
LOCATION:Ct Style\, CT\, United States
CATEGORIES:Live Tv Appearance
ATTACH;FMTTYPE=image/jpeg:https://www.silviabaldini.com/wp-content/uploads/2015/10/new-ctstyle_300x250_weekdays-jpg.jpeg
END:VEVENT
BEGIN:VEVENT
DTSTART;TZID=America/New_York:20160104T080000
DTEND;TZID=America/New_York:20160104T170000
DTSTAMP:20260423T220109
CREATED:20150715T110047Z
LAST-MODIFIED:20150715T110302Z
UID:1578-1451894400-1451926800@www.silviabaldini.com
SUMMARY:Westport Farmers Market
DESCRIPTION:
URL:https://www.silviabaldini.com/event/westport-farmers-market/
LOCATION:Westport Farmers Market\, 50 Imperial Ave\, Westport\, CT\, 06880\, United States
ATTACH;FMTTYPE=image/jpeg:https://www.silviabaldini.com/wp-content/uploads/2015/07/farmersmarket.jpg
END:VEVENT
BEGIN:VEVENT
DTSTART;TZID=America/New_York:20151201T200000
DTEND;TZID=America/New_York:20151201T220000
DTSTAMP:20260423T220109
CREATED:20150515T124451Z
LAST-MODIFIED:20150925T124223Z
UID:925-1449000000-1449007200@www.silviabaldini.com
SUMMARY:Featured Chef Speaker At World AIDS Day
DESCRIPTION:Vip Cooking Demo with Chopped Champion Silvia Baldini
URL:https://www.silviabaldini.com/event/featured-chef-speaker-at-world-aids-day/
LOCATION:Pond House\, West Hartford\, CT\, United States
ATTACH;FMTTYPE=image/jpeg:https://www.silviabaldini.com/wp-content/uploads/2015/01/Sylvia02_web.jpg
END:VEVENT
BEGIN:VEVENT
DTSTART;TZID=America/New_York:20151111T090000
DTEND;TZID=America/New_York:20151111T100000
DTSTAMP:20260423T220109
CREATED:20151022T161803Z
LAST-MODIFIED:20151022T161803Z
UID:1841-1447232400-1447236000@www.silviabaldini.com
SUMMARY:CTSTYLE Live 9am
DESCRIPTION:Chef Silvia is cooking live some holiday treats with tv host Ryan Kristafer.
URL:https://www.silviabaldini.com/event/ctstyle-live-9am-2/
LOCATION:Ct Style\, CT\, United States
CATEGORIES:Live Tv Appearance
ATTACH;FMTTYPE=image/jpeg:https://www.silviabaldini.com/wp-content/uploads/2015/10/new-ctstyle_300x250_weekdays-jpg.jpeg
END:VEVENT
BEGIN:VEVENT
DTSTART;TZID=America/New_York:20151029T180000
DTEND;TZID=America/New_York:20151029T210000
DTSTAMP:20260423T220109
CREATED:20150925T123818Z
LAST-MODIFIED:20150925T124341Z
UID:1721-1446141600-1446152400@www.silviabaldini.com
SUMMARY:Women Build's Gourmet Tasting & Fundraiser
DESCRIPTION:Gourmet Tasting & Fundraiser
URL:https://www.silviabaldini.com/event/women-builds-gourmet-tasting-fundraiser/
LOCATION:Aiatoro\, 401 Westport Ave.\, Norwalk\, CT\, United States
ATTACH;FMTTYPE=image/jpeg:https://www.silviabaldini.com/wp-content/uploads/2015/04/choppedgrab3.jpg
END:VEVENT
BEGIN:VEVENT
DTSTART;TZID=America/New_York:20151014T090000
DTEND;TZID=America/New_York:20151014T220000
DTSTAMP:20260423T220109
CREATED:20151007T162635Z
LAST-MODIFIED:20151012T141507Z
UID:1811-1444813200-1444860000@www.silviabaldini.com
SUMMARY:CTStyle Live 9am
DESCRIPTION:Watch Chef Silvia live on Ct Style with tv host Ryan Kristafer.
URL:https://www.silviabaldini.com/event/ctstyle-live-9am/
LOCATION:Ct Style\, CT\, United States
CATEGORIES:Live Tv Appearance
ATTACH;FMTTYPE=image/jpeg:https://www.silviabaldini.com/wp-content/uploads/2015/10/new-ctstyle_300x250_weekdays-jpg.jpeg
END:VEVENT
BEGIN:VEVENT
DTSTART;TZID=America/New_York:20151003T163000
DTEND;TZID=America/New_York:20151003T180000
DTSTAMP:20260423T220109
CREATED:20150925T152938Z
LAST-MODIFIED:20150925T152938Z
UID:1728-1443889800-1443895200@www.silviabaldini.com
SUMMARY:Painters On Location
DESCRIPTION:On Saturday\, October 3\, 2015\, roughly forty professional artists will paint the town\, parks\, beaches\, landmarks\, buildings\, landscapes\, and scenic beauty of Rye and its surrounding areas in a one day plein-air paint-out. \nA reception to view the wet works will take place on October 3\, 4:30 – 6:00 pm\, with a live art auction starting at 6:15 pm in the Performing Arts Room at The Rye Arts Center. \nFood By Silvia Baldini
URL:https://www.silviabaldini.com/event/painters-on-location/
LOCATION:The Rye Art Center\, 51 Milton Road\, Rye\, NY\, 10580\, United States
ATTACH;FMTTYPE=image/jpeg:https://www.silviabaldini.com/wp-content/uploads/2014/10/professional-chef-new-england.jpg
END:VEVENT
BEGIN:VEVENT
DTSTART;TZID=America/New_York:20150724T080000
DTEND;TZID=America/New_York:20150724T170000
DTSTAMP:20260423T220109
CREATED:20150426T153759Z
LAST-MODIFIED:20150426T153759Z
UID:763-1437724800-1437757200@www.silviabaldini.com
SUMMARY:Milano Expo 2015
DESCRIPTION:Expo Milano 2015 is the Universal Exhibition that Milan\, Italy\, will host from May 1 to October 31\, 2015. Over this six-month period\, Milan will become a global showcase where more than 140 participating countries will show the best of their technology that offers a concrete answer to a vital need: being able to guarantee healthy\, safe and sufficient food for everyone\, while respecting the Planet and its equilibrium. In addition to the exhibitor nations\, the Expo also involves international organizations\, and expects to welcome over 20 million visitors to its 1.1 million square meters of exhibition area.\n\nA platform for the exchange of ideas and shared solutions on the theme of food\, stimulating each country’s creativity and promoting innovation for a sustainable future\, Expo 2015 will give everyone the opportunity to find out about\, and taste\, the world’s best dishes\, while discovering the best of the agri-food and gastronomic traditions of each of the exhibitor countries.
URL:https://www.silviabaldini.com/event/milano-expo-2015/
LOCATION:CT
ATTACH;FMTTYPE=image/png:https://www.silviabaldini.com/wp-content/uploads/2015/04/logoExpo1.png
END:VEVENT
BEGIN:VEVENT
DTSTART;TZID=America/New_York:20150722T100000
DTEND;TZID=America/New_York:20150722T120000
DTSTAMP:20260423T220109
CREATED:20150426T153312Z
LAST-MODIFIED:20150620T101011Z
UID:759-1437559200-1437566400@www.silviabaldini.com
SUMMARY:Turin Epicurean
DESCRIPTION:An International Food Lit Event where authors\, bloggers and food professionals will talk about the universal meaning of food and its influence in their lives and careers in a series of round-tables on July 21\, 22 and 23 2015 in Turin\, NW Italy
URL:https://www.silviabaldini.com/event/turin-epicurean/
LOCATION:Turin Epicurean\, Torino\, 10100\, Italy
ATTACH;FMTTYPE=image/jpeg:https://www.silviabaldini.com/wp-content/uploads/2015/04/poster-Torino-e1430062364773.jpg
END:VEVENT
BEGIN:VEVENT
DTSTART;TZID=America/New_York:20150531T100000
DTEND;TZID=America/New_York:20150531T170000
DTSTAMP:20260423T220109
CREATED:20150320T012516Z
LAST-MODIFIED:20150507T183657Z
UID:406-1433066400-1433091600@www.silviabaldini.com
SUMMARY:Second Annual Sustainable Food & Farm Expo at the Audubon Greenwich
DESCRIPTION:Chef Silvia Baldini of Strawberry and Sage will share her passion for cooking in three different culinary demonstrations and tastings where locally sourced ingredients take center stage. “When you work with real food\, it’s easy to be in the kitchen” says Baldini\, Fairfield County’s first female Chopped Champion. \nEvent Highlights: \n  \n\nVisit 20 exhibitors to learn about\, sample\, and purchase their sustainable food products and services.\nChoose from three chef demonstrations and tastings ($10 each).\nAttend free talks about growing heirloom vegetables and saving seeds\, suburban homesteading\, nutrient dense vegetable gardening\, and food preservation.\nAttend paid talks ($10 each) with tastings including local honey\, ultra-premium extra virgin olive oil\, and artisan cheese.\nAttend a free butchery demo and sustainable meat talk.\nAttend a free micro-lot\, organic coffee tasting and demonstration on mastering French press brewing.
URL:https://www.silviabaldini.com/event/expo-at-the-audubon/
LOCATION:Audubon Greenwich\, 613 Riversville Road\, Greenwich\, CT 06831
ATTACH;FMTTYPE=image/jpeg:https://www.silviabaldini.com/wp-content/uploads/2015/03/eggs.jpg
END:VEVENT
BEGIN:VEVENT
DTSTART;TZID=America/New_York:20150521T120000
DTEND;TZID=America/New_York:20150521T130000
DTSTAMP:20260423T220109
CREATED:20150515T124055Z
LAST-MODIFIED:20150515T124055Z
UID:924-1432209600-1432213200@www.silviabaldini.com
SUMMARY:Featured Guest On Patty Gay's  Food Talk. Live TV Broadcast.
DESCRIPTION:
URL:https://www.silviabaldini.com/event/featured-guest-on-patty-gays-food-talk-live-tv-broadcast/
LOCATION:CT
ATTACH;FMTTYPE=image/jpeg:https://www.silviabaldini.com/wp-content/uploads/2015/05/Silvia-Joweb.jpg
END:VEVENT
BEGIN:VEVENT
DTSTART;TZID=America/New_York:20150507T120000
DTEND;TZID=America/New_York:20150507T130000
DTSTAMP:20260423T220109
CREATED:20150422T125930Z
LAST-MODIFIED:20150425T003129Z
UID:726-1431000000-1431003600@www.silviabaldini.com
SUMMARY:Stir Crazy: Food Chat With Patty Gay
DESCRIPTION:Joining Patty Gay\, on the Mother’s day episode\, will be Chef Silvia Baldini of New Canaan\, who became the first female chef from Connecticut to win Chopped.
URL:https://www.silviabaldini.com/event/stir-crazy-food-chat-with-patty-gay/
LOCATION:Stir Crazy: Food Chat
ATTACH;FMTTYPE=image/jpeg:https://www.silviabaldini.com/wp-content/uploads/2014/10/weston-stir-crazy-food-show-436x291-e1429042839988.jpg
END:VEVENT
BEGIN:VEVENT
DTSTART;TZID=America/New_York:20150429T183000
DTEND;TZID=America/New_York:20150429T200000
DTSTAMP:20260423T220109
CREATED:20150329T224915Z
LAST-MODIFIED:20150428T160538Z
UID:537-1430332200-1430337600@www.silviabaldini.com
SUMMARY:The Art Of Picnics/ sold out please email for waiting list
DESCRIPTION:Put some oomph in to your picnic. Forget dull Sandwiches and limp salads. Learn how to cook and pack an elegant meal you can share alfresco with family and friends. \nThis two-hour cooking demo features professional culinary instruction and demonstrations by Chopped Champion Chef Silvia Baldini of Strawberry and Sage\, and extra virgin olive oil pairings and education by Alina Lawrence of Olivette. \nFor more informations and to purchase tickets got to:\nhttp://www.olivettect.com/events/2015/4/17/april-29th-the-art-of-picnics \nTickets: $40 \nBasket:\nMason Jars Salads and dressings\nPressed Sandwiches\nScotch Eggs\nPickled Vegetables\nChilled Strawberry Soup and Balsamic reduction \nExtra Virgin Olive Oils and Vinegar Pairing \nLemonade\, Prosecco and Fruit Waters \nFeaturing Wave Hill Breads
URL:https://www.silviabaldini.com/event/olive-oil-in-a-basket-its-picnic-time/
LOCATION:Olivette Darien\, 1084 Post Road\, Darien\, CT\, 06820\, United States
CATEGORIES:Cooking Class,Demo,Lecture
ATTACH;FMTTYPE=image/jpeg:https://www.silviabaldini.com/wp-content/uploads/2015/03/jarsalad_-e1429707002559.jpg
END:VEVENT
BEGIN:VEVENT
DTSTART;TZID=America/New_York:20150418T180000
DTEND;TZID=America/New_York:20150418T200000
DTSTAMP:20260423T220109
CREATED:20150320T013115Z
LAST-MODIFIED:20150414T135144Z
UID:410-1429380000-1429387200@www.silviabaldini.com
SUMMARY:Va VA Vroom. The  Art of the Vehicle
DESCRIPTION:Race on Down to the Patron Preview Reception. \nSaturday\, April 18th\, 6-8pm \nThe Carriage Barn Arts Center\, New Canaan \nA pecial selection of vintage cars will be on view for this night only. Patrons will enjoy creations by  Silvia Baldini.
URL:https://www.silviabaldini.com/event/va-va-vroom-the-art-of-the-vehicle/
LOCATION:Carriage Barn Arts Center\, 681 South Ave\, New Canaan\, 06840
ATTACH;FMTTYPE=image/png:https://www.silviabaldini.com/wp-content/uploads/2015/03/vintagecar-e1429018990853.png
END:VEVENT
BEGIN:VEVENT
DTSTART;TZID=America/New_York:20150326T183000
DTEND;TZID=America/New_York:20150326T203000
DTSTAMP:20260423T220109
CREATED:20150309T205829Z
LAST-MODIFIED:20150321T063221Z
UID:238-1427394600-1427401800@www.silviabaldini.com
SUMMARY:Ark of Taste Honeys: A Lecture and Educational Tasting
DESCRIPTION:Culinary Demonstration and Tasting with Chef Silvia Baldini\nAuthor\, beekeeper\, and honey sommelier Marina Marchese will present a guided honey tasting of three rare and endangered honeys cataloged in Slow Food USA’s Ark of Taste. She will discuss how honeybees make liquid gold\, their importance in our ecosystem\, floral nectar sources\, and how terroir determines flavor profiles. Marchese is the founder of Red Bee Honey\, the author of “The Honey Connoisseur: Selecting\, Tasting and Pairing Honey\, with a Guide to More than 30 Varietals”\, and the founder of The American Honey Tasting Society. \nFollowing a Q&A session with Marchese\, Chef Silvia Baldini of Strawberry and Sage will demonstrate how to make an heirloom carrot soup showcasing an Ark of Taste honey while guests enjoy a tasting. Analiese Paik of the Fairfield Green Food Guide will inform guests about rare and delicious heirloom and Ark of Taste foods\, and provide insider tips for sourcing them. Immediately following the presentations\, guests are invited to socialize while savoring Ark of Taste honey-soaked cakes by Chef Silvia and locally-roasted coffee from Shearwater Organic Coffee Roasters. This event is a co-production of Fairfield Green Food Guide and Strawberry and Sage. \nMarch 26 \nFrom 6:30-8:30 pm \n$25 per person; RSVP online at CarriageBarn.org
URL:https://www.silviabaldini.com/event/ark-of-taste-honeys-a-lecture-and-educational-tasting/
LOCATION:Carriage Barn Arts Center\, 681 South Ave\, New Canaan\, 06840
CATEGORIES:Demo,Lecture
ATTACH;FMTTYPE=image/jpeg:https://www.silviabaldini.com/wp-content/uploads/2015/03/honeylemoncake.jpg
ORGANIZER;CN="Strawberry & Sage":MAILTO:silvianyc@mac.com
END:VEVENT
BEGIN:VEVENT
DTSTART;TZID=America/New_York:20150226T183000
DTEND;TZID=America/New_York:20150226T210000
DTSTAMP:20260423T220109
CREATED:20150206T223950Z
LAST-MODIFIED:20150207T023241Z
UID:189-1424975400-1424984400@www.silviabaldini.com
SUMMARY:A Warming Winter Dinner Party
DESCRIPTION:During A Warming Winter Dinner Party you will learn to prepare restaurant-quality\, make-ahead dishes featuring organic root vegetables from local farms\, sustainably raised meats\, ancient grains\, and organic fruit. Each course is expertly paired with sustainable wines from Old Greenwich Fine Wines. Chef Silvia Baldini will demonstrate how to prepare each dish using cookware and tools from Cook and Craft as she shares professional culinary tips. Analiese Paik will educate guests about the importance of sourcing high-quality\, sustainable ingredients and share local food resources including retailers\, farms and artisan food producers. \nPrepare to welcome your dinner guests to settle in and get comfortable in the heart of your home to enjoy a seasonal\, family-style meal made with love by you. They won’t be able to resist huddling around the stove and offering to help with a small task. Everyone can help finish the meal\, even if it’s just serving or garnishing a plate. \nEach guest will receive Chef Silvia’s recipes to prepare at home\, an ingredient sourcing guide from Analiese Paik\, wine pairings and service tips from Old Greenwich Fine Wines\, and cookware and tool advice from Cook and Craft. \n  \nA Warming Winter Dinner Party Tasting Menu\nBraised Chicken with Farro\, Saffron Onions\, and Date Chutney Tagine\nRoasted\, Cumin-Scented Root Vegetables\nCaramelized Citrus and Preserved Plum Rice Pudding \nWine Tasting Menu by Old Greenwich Fine Wines\nJean Paul Brun Beaujolais Blanc\nThe Prisoner Wine Company Blindfold White Blend\nDomaine Roger Perrin Cuveé Vielles Vignes Cotes du Rhône\nSaint Cosme Chateauneuf-du-Pape
URL:https://www.silviabaldini.com/event/a-warming-winter-dinner-party/
LOCATION:Wheelock Maidique\, 232 Sound Beach Avenue\, Old Greenwich\, CT\, 06870\, United States
CATEGORIES:360 Epicurean Experiences
ORGANIZER;CN="Strawberry & Sage":MAILTO:silvianyc@mac.com
END:VEVENT
BEGIN:VEVENT
DTSTART;TZID=America/New_York:20150212T100000
DTEND;TZID=America/New_York:20150212T112500
DTSTAMP:20260423T220109
CREATED:20150206T230700Z
LAST-MODIFIED:20150206T230700Z
UID:193-1423735200-1423740300@www.silviabaldini.com
SUMMARY:FOODS OF LOVE
DESCRIPTION:New Canaan Library invites all to get ready for Valentine’s Day with another amazing event by culinary experts Silvia Baldini and Analiese Paik. Join them on February 12 from 10 – 11:30 AM in the Lamb Room for Foods of Love\, a culinary event centered on foods known to get us in the mood for love. There will be a $25 fee to cover ingredients and beverages. \nLearn about everyday aphrodisiacs including strawberries\, honey\, figs\, artichokes\, chili peppers\, edible flowers\, chocolate and coffee\, and how to incorporate them into an irresistible Valentine’s Day menu. \nChef Silvia Baldini will teach guests how to prepare a three-course\, restaurant-quality\, Valentine’s Day menu inspired by these foods of love. Analiese Paik will inform guests about the importance of sourcing high-quality\, sustainable ingredients and highlight local resources including retailers\, farms and artisan food producers. The morning culminates with a tasting of all three menu items and networking. Special guest Ed Freedman of Shearwater Organic Coffee Roasters will demonstrate how to brew the perfect cup of espresso roast coffee and provide guests with tastings of three different roasts. \nEach guest will receive Chef Silvia’s recipes to prepare at home and sourcing guidance for each ingredient from Analiese Paik. \nTasting Menu:\nArtichokes\, Honey and Figs with Hot Chili Bruschetta\nStrawberry Risotto\nArtisan Chocolate\, Shearwater Organic Coffee Roasters Espresso\, and Vanilla Ice Cream Affogato \nRegistration is required for this event online at \nnewcanaanlibrary.org
URL:https://www.silviabaldini.com/event/foods-of-love/
LOCATION:New Canaan Library\,  151 MAIN STREET\, New Canaan\, CT\, 06840\, United States
CATEGORIES:Cooking Class,Demo,Lecture
ORGANIZER;CN="Strawberry & Sage":MAILTO:silvianyc@mac.com
END:VEVENT
BEGIN:VEVENT
DTSTART;TZID=America/New_York:20141209T180000
DTEND;TZID=America/New_York:20141209T200000
DTSTAMP:20260423T220109
CREATED:20141107T232917Z
LAST-MODIFIED:20141127T030945Z
UID:97-1418148000-1418155200@www.silviabaldini.com
SUMMARY:New Canaan Library Lecture Chocolate and Tasting
DESCRIPTION:New Canaan Library\nDecember 9\, 2014\n6:00-8:00 pm\n$25 per person\nRegistration is required for this event online at: \nnewcanaanlibrary.org \nHigh quality artisan chocolate makes all the difference in flavor when preparing chocolate treats and desserts for the holidays. Taste three fine\, artisan chocolates selected by Analiese Paik and discover their unique flavor profiles\, cacao sources\, and culinary uses. Then\, learn proper techniques for melting and working with high-quality chocolate as Chef Silvia demonstrates how to prepare flourless chestnut torte and chocolate truffles. End the evening networking with guests as you sip hot chocolate topped with homemade marshmallows and savor flourless chestnut torte and chocolate truffles. \nEach guest will receive Chef Silvia’s chocolate dessert recipes to prepare at home and flavor profiles and sourcing guidance for each chocolate from Analiese Paik.
URL:https://www.silviabaldini.com/event/new-canaan-library-lecture-chocolate-and-tasting/
LOCATION:New Canaan Library\,  151 MAIN STREET\, New Canaan\, CT\, 06840\, United States
ATTACH;FMTTYPE=image/jpeg:https://www.silviabaldini.com/wp-content/uploads/2014/11/New-Canaan-Library-Lecture-Chocolate-Tasting.jpg
END:VEVENT
BEGIN:VEVENT
DTSTART;TZID=America/New_York:20141120T080000
DTEND;TZID=America/New_York:20141120T170000
DTSTAMP:20260423T220109
CREATED:20141107T232834Z
LAST-MODIFIED:20141107T232834Z
UID:95-1416470400-1416502800@www.silviabaldini.com
SUMMARY:Eco Green Wall Party Tasting at Lillian and August\, Norwalk
DESCRIPTION:Eco Green Wall Party Tasting at Lillian and August\, Norwalk
URL:https://www.silviabaldini.com/event/eco-green-wall-party-tasting-at-lillian-and-august-norwalk/
LOCATION:CT
END:VEVENT
BEGIN:VEVENT
DTSTART;TZID=America/New_York:20141119T080000
DTEND;TZID=America/New_York:20141119T170000
DTSTAMP:20260423T220109
CREATED:20141107T232635Z
LAST-MODIFIED:20141107T232635Z
UID:94-1416384000-1416416400@www.silviabaldini.com
SUMMARY:Taste of New Canaan
DESCRIPTION:Women League of New Canaan. Waveny
URL:https://www.silviabaldini.com/event/taste-of-new-canaan/
LOCATION:CT
END:VEVENT
BEGIN:VEVENT
DTSTART;TZID=America/New_York:20141106T183000
DTEND;TZID=America/New_York:20141106T203000
DTSTAMP:20260423T220109
CREATED:20141107T220453Z
LAST-MODIFIED:20141107T220453Z
UID:87-1415298600-1415305800@www.silviabaldini.com
SUMMARY:Olive Oil Tasting and Cooking Class
DESCRIPTION:Get ready for chic fall entertaining with a menu celebrating seasonal flavors and heart-healthy extra virgin olive oil. This two-hour cooking class features professional culinary instruction and demonstrations by Chef Silvia Baldini of Strawberry and Sage\, a five-course tasting menu\, extra virgin olive oil pairings and education by Alina Lawrence of Olivette\, and guidance on sourcing seasonal foods locally by Analiese Paik of the Fairfield Green Food Guide. Every guest will receive a set of Chef Silvia’s recipes to use at home. \nTickets: $55 per person. Purchase your tickets online here\nTasting Menu\nby Chef Silvia Baldini of Strawberry and Sage
URL:https://www.silviabaldini.com/event/olive-oil-tasting-and-cooking-class/
LOCATION:Olivette Darien\, 1084 Post Road\, Darien\, CT\, 06820\, United States
END:VEVENT
END:VCALENDAR